BEGIN:VCALENDAR
VERSION:2.0
PRODID:-//Placid Lakes - ECPv6.13.1//NONSGML v1.0//EN
CALSCALE:GREGORIAN
METHOD:PUBLISH
X-WR-CALNAME:Placid Lakes
X-ORIGINAL-URL:https://www.placidlakescountryclub.com
X-WR-CALDESC:Events for Placid Lakes
REFRESH-INTERVAL;VALUE=DURATION:PT1H
X-Robots-Tag:noindex
X-PUBLISHED-TTL:PT1H
BEGIN:VTIMEZONE
TZID:America/Toronto
BEGIN:DAYLIGHT
TZOFFSETFROM:-0500
TZOFFSETTO:-0400
TZNAME:EDT
DTSTART:20210314T070000
END:DAYLIGHT
BEGIN:STANDARD
TZOFFSETFROM:-0400
TZOFFSETTO:-0500
TZNAME:EST
DTSTART:20211107T060000
END:STANDARD
BEGIN:DAYLIGHT
TZOFFSETFROM:-0500
TZOFFSETTO:-0400
TZNAME:EDT
DTSTART:20220313T070000
END:DAYLIGHT
BEGIN:STANDARD
TZOFFSETFROM:-0400
TZOFFSETTO:-0500
TZNAME:EST
DTSTART:20221106T060000
END:STANDARD
END:VTIMEZONE
BEGIN:VEVENT
DTSTART;TZID=America/Toronto:20220120T153000
DTEND;TZID=America/Toronto:20220120T153000
DTSTAMP:20260420T000133
CREATED:20211221T143910Z
LAST-MODIFIED:20211221T144042Z
UID:6405-1642692600-1642692600@www.placidlakescountryclub.com
SUMMARY:Men's Winter League
DESCRIPTION:Men’s Winter 9 Hole League\nJanuary 13\, 2022 through March 31\, 2022\nThursdays at 3:30PM \n$50 Entry Fee – Goes towards prizes \n$18 for golf & cart \nOptional skins and closest to pins! \nSign up in the Golf Shop or call us at (863) 465-1626
URL:https://www.placidlakescountryclub.com/event/mens-winter-league-3/
ATTACH;FMTTYPE=image/png:https://www.placidlakescountryclub.com/wp-content/uploads/2021/12/Mens-Winter-League-event-_-placid-lakes.png
END:VEVENT
BEGIN:VEVENT
DTSTART;TZID=America/Toronto:20220119T150000
DTEND;TZID=America/Toronto:20220119T150000
DTSTAMP:20260420T000133
CREATED:20220106T215742Z
LAST-MODIFIED:20220106T215806Z
UID:6452-1642604400-1642604400@www.placidlakescountryclub.com
SUMMARY:Couples League
DESCRIPTION:Couples Two Ball Nine Hole Scramble League\nEvery Wednesday at 3:00 PM\n$5 per couple \nTwo Flights:\nFlight 1 – Couples shooting 40 and under\nFlight 2 – Couples shooting over 40 \nPrizes\nClosest to the pin on holes 2 and 4!\nFlight winners! \nSign up in the Golf Shop or Call (863) 465-1626 \nQuestions? Call Zane Chappy (239) 595-7628
URL:https://www.placidlakescountryclub.com/event/couples-league-5-2/
ATTACH;FMTTYPE=image/png:https://www.placidlakescountryclub.com/wp-content/uploads/2022/01/Couples-Leagues-placid-lakes-Facebook-Event-Cover.png
END:VEVENT
BEGIN:VEVENT
DTSTART;TZID=America/Toronto:20220113T153000
DTEND;TZID=America/Toronto:20220113T153000
DTSTAMP:20260420T000133
CREATED:20211221T143910Z
LAST-MODIFIED:20211221T143910Z
UID:6401-1642087800-1642087800@www.placidlakescountryclub.com
SUMMARY:Men's Winter League
DESCRIPTION:Men’s Winter 9 Hole League\nJanuary 13\, 2022 through March 31\, 2022\nThursdays at 3:30PM \n$50 Entry Fee – Goes towards prizes \n$18 for golf & cart \nOptional skins and closest to pins! \nSign up in the Golf Shop or call us at (863) 465-1626
URL:https://www.placidlakescountryclub.com/event/mens-winter-league/
ATTACH;FMTTYPE=image/png:https://www.placidlakescountryclub.com/wp-content/uploads/2021/12/Mens-Winter-League-event-_-placid-lakes.png
END:VEVENT
BEGIN:VEVENT
DTSTART;TZID=America/Toronto:20220112T150000
DTEND;TZID=America/Toronto:20220112T150000
DTSTAMP:20260420T000133
CREATED:20220106T215742Z
LAST-MODIFIED:20220106T215742Z
UID:6447-1641999600-1641999600@www.placidlakescountryclub.com
SUMMARY:Couples League
DESCRIPTION:Couples Two Ball Nine Hole Scramble League\nEvery Wednesday at 3:00 PM\n$5 per couple \nTwo Flights:\nFlight 1 – Couples shooting 40 and under\nFlight 2 – Couples shooting over 40 \nPrizes\nClosest to the pin on holes 2 and 4!\nFlight winners! \nSign up in the Golf Shop or Call (863) 465-1626 \nQuestions? Call Zane Chappy (239) 595-7628
URL:https://www.placidlakescountryclub.com/event/couples-league-5/
ATTACH;FMTTYPE=image/png:https://www.placidlakescountryclub.com/wp-content/uploads/2022/01/Couples-Leagues-placid-lakes-Facebook-Event-Cover.png
END:VEVENT
BEGIN:VEVENT
DTSTART;TZID=America/Toronto:20211211T083000
DTEND;TZID=America/Toronto:20211211T083000
DTSTAMP:20260420T000133
CREATED:20211123T184525Z
LAST-MODIFIED:20211123T184525Z
UID:6363-1639211400-1639211400@www.placidlakescountryclub.com
SUMMARY:Holiday Scramble
DESCRIPTION:Holiday Scramble\nDecember 11th | 8:30 am\nShotgun Start \n$27.00 Golf plus tax\n$5.00 Entry\n$5.00 Mulligans Optional – WGA\nRaffles & 50/50 – MGA\nPutting Contest \nCall to Sign Up: (863) 465-1626
URL:https://www.placidlakescountryclub.com/event/holiday-scramble-2/
ATTACH;FMTTYPE=image/png:https://www.placidlakescountryclub.com/wp-content/uploads/2021/11/Placid-Lakes-Holiday-Scram-Facebook-Event-Cover-1.png
END:VEVENT
BEGIN:VEVENT
DTSTART;VALUE=DATE:20211129
DTEND;VALUE=DATE:20211130
DTSTAMP:20260420T000133
CREATED:20211112T131404Z
LAST-MODIFIED:20211112T131418Z
UID:6341-1638144000-1638230399@www.placidlakescountryclub.com
SUMMARY:Cyber Monday
DESCRIPTION:Cyber Monday Steals & Deals!\nIt’s the holidays- skip the stress of shopping & spend more time with your family! \nShop our Cyber Monday specials to get all your gifts in one place. \n➡️ SHOP NOW
URL:https://www.placidlakescountryclub.com/event/cyber-monday/
ATTACH;FMTTYPE=image/png:https://www.placidlakescountryclub.com/wp-content/uploads/2021/11/cyber-monday-2021-AV-5.png
END:VEVENT
BEGIN:VEVENT
DTSTART;VALUE=DATE:20211115
DTEND;VALUE=DATE:20211129
DTSTAMP:20260420T000133
CREATED:20211111T130059Z
LAST-MODIFIED:20211110T211823Z
UID:6335-1636934400-1638143999@www.placidlakescountryclub.com
SUMMARY:Black Friday
DESCRIPTION:Black Friday Sale\nNovember 15-28
URL:https://www.placidlakescountryclub.com/event/black-friday/
ATTACH;FMTTYPE=image/png:https://www.placidlakescountryclub.com/wp-content/uploads/2021/11/black-friday-2021-BF1-event.png
END:VEVENT
BEGIN:VEVENT
DTSTART;VALUE=DATE:20210607
DTEND;VALUE=DATE:20210621
DTSTAMP:20260420T000133
CREATED:20210610T163934Z
LAST-MODIFIED:20210610T163934Z
UID:6304-1623024000-1624233599@www.placidlakescountryclub.com
SUMMARY:Father's Day Sale
DESCRIPTION:Our Father’s Day Sale is HERE!\nShop the best golf deal from your local golf course. This won’t last long! \n10% off Gift Cards\nDiscounted gift cards are valid for use after June 20\, 2021 \nCannot be used towards membership purchase. \nFather’s Day Weekend Special\nBuy 1 Round\, Get 1 Half Price on June 19th & 20th! \nCall or book your tee time online. \n\n 
URL:https://www.placidlakescountryclub.com/event/fathers-day-sale/
LOCATION:Placid Lakes
ATTACH;FMTTYPE=image/png:https://www.placidlakescountryclub.com/wp-content/uploads/2021/06/AV-5-Fathers-Day-2021-fb-cover-1.png
END:VEVENT
BEGIN:VEVENT
DTSTART;TZID=America/Toronto:20210331T150000
DTEND;TZID=America/Toronto:20210331T190000
DTSTAMP:20260420T000133
CREATED:20210216T215415Z
LAST-MODIFIED:20210216T220552Z
UID:6287-1617202800-1617217200@www.placidlakescountryclub.com
SUMMARY:Couples League
DESCRIPTION:Couples League\nWednesdays at 3:00 p.m\nJoin us weekly on Wednesdays for Date Night at Placid Lakes! \nThis league requires no commitment\, you’re welcome to play when you can! \nCost\n$18 per player \n$3 for prize money per couple \nOptional closest to pin $1
URL:https://www.placidlakescountryclub.com/event/couples-league-4-2-2-2-2/
LOCATION:Placid Lakes
ATTACH;FMTTYPE=image/png:https://www.placidlakescountryclub.com/wp-content/uploads/2021/01/Placid-Lakes-_-Couples-9-Hole-League-2.png
END:VEVENT
BEGIN:VEVENT
DTSTART;TZID=America/Toronto:20210325T153000
DTEND;TZID=America/Toronto:20210325T193000
DTSTAMP:20260420T000133
CREATED:20210106T175402Z
LAST-MODIFIED:20210106T175815Z
UID:6247-1616686200-1616700600@www.placidlakescountryclub.com
SUMMARY:Men's Winter 9 Hole League
DESCRIPTION:January 7 thru March 25 | Thursdays at 3:30PM\n$50 Entry Fee – Goes towards prizes\n$18 for golf & cart \nOptional skins and closest to pins! \nSign up in the Golf Shop or call us at (863) 465-1626
URL:https://www.placidlakescountryclub.com/event/mens-winter-9-hole-league-2-2-2-2-2-2-2-2-2-2-2/
LOCATION:Placid Lakes
ATTACH;FMTTYPE=image/png:https://www.placidlakescountryclub.com/wp-content/uploads/2021/01/Mens-Winter-League-event-_-placid-lakes.png
END:VEVENT
BEGIN:VEVENT
DTSTART;TZID=America/Toronto:20210324T150000
DTEND;TZID=America/Toronto:20210324T190000
DTSTAMP:20260420T000133
CREATED:20210216T215415Z
LAST-MODIFIED:20210216T220504Z
UID:6284-1616598000-1616612400@www.placidlakescountryclub.com
SUMMARY:Couples League
DESCRIPTION:Couples League\nWednesdays at 3:00 p.m\nJoin us weekly on Wednesdays for Date Night at Placid Lakes! \nThis league requires no commitment\, you’re welcome to play when you can! \nCost\n$18 per player \n$3 for prize money per couple \nOptional closest to pin $1
URL:https://www.placidlakescountryclub.com/event/couples-league-4-2-2-2/
LOCATION:Placid Lakes
ATTACH;FMTTYPE=image/png:https://www.placidlakescountryclub.com/wp-content/uploads/2021/01/Placid-Lakes-_-Couples-9-Hole-League-2.png
END:VEVENT
BEGIN:VEVENT
DTSTART;TZID=America/Toronto:20210318T153000
DTEND;TZID=America/Toronto:20210318T193000
DTSTAMP:20260420T000133
CREATED:20210106T175402Z
LAST-MODIFIED:20210106T175800Z
UID:6244-1616081400-1616095800@www.placidlakescountryclub.com
SUMMARY:Men's Winter 9 Hole League
DESCRIPTION:January 7 thru March 25 | Thursdays at 3:30PM\n$50 Entry Fee – Goes towards prizes\n$18 for golf & cart \nOptional skins and closest to pins! \nSign up in the Golf Shop or call us at (863) 465-1626
URL:https://www.placidlakescountryclub.com/event/mens-winter-9-hole-league-2-2-2-2-2-2-2-2-2-2/
LOCATION:Placid Lakes
ATTACH;FMTTYPE=image/png:https://www.placidlakescountryclub.com/wp-content/uploads/2021/01/Mens-Winter-League-event-_-placid-lakes.png
END:VEVENT
BEGIN:VEVENT
DTSTART;TZID=America/Toronto:20210317T150000
DTEND;TZID=America/Toronto:20210317T190000
DTSTAMP:20260420T000133
CREATED:20210216T215415Z
LAST-MODIFIED:20210216T220315Z
UID:6281-1615993200-1616007600@www.placidlakescountryclub.com
SUMMARY:Couples League
DESCRIPTION:Couples League\nWednesdays at 3:00 p.m\nJoin us weekly on Wednesdays for Date Night at Placid Lakes! \nThis league requires no commitment\, you’re welcome to play when you can! \nCost\n$18 per player \n$3 for prize money per couple \nOptional closest to pin $1
URL:https://www.placidlakescountryclub.com/event/couples-league-4-2-2/
LOCATION:Placid Lakes
ATTACH;FMTTYPE=image/png:https://www.placidlakescountryclub.com/wp-content/uploads/2021/01/Placid-Lakes-_-Couples-9-Hole-League-2.png
END:VEVENT
BEGIN:VEVENT
DTSTART;TZID=America/Toronto:20210311T153000
DTEND;TZID=America/Toronto:20210311T193000
DTSTAMP:20260420T000133
CREATED:20210106T175402Z
LAST-MODIFIED:20210106T175732Z
UID:6241-1615476600-1615491000@www.placidlakescountryclub.com
SUMMARY:Men's Winter 9 Hole League
DESCRIPTION:January 7 thru March 25 | Thursdays at 3:30PM\n$50 Entry Fee – Goes towards prizes\n$18 for golf & cart \nOptional skins and closest to pins! \nSign up in the Golf Shop or call us at (863) 465-1626
URL:https://www.placidlakescountryclub.com/event/mens-winter-9-hole-league-2-2-2-2-2-2-2-2-2/
LOCATION:Placid Lakes
ATTACH;FMTTYPE=image/png:https://www.placidlakescountryclub.com/wp-content/uploads/2021/01/Mens-Winter-League-event-_-placid-lakes.png
END:VEVENT
BEGIN:VEVENT
DTSTART;TZID=America/Toronto:20210310T150000
DTEND;TZID=America/Toronto:20210310T190000
DTSTAMP:20260420T000133
CREATED:20210216T215415Z
LAST-MODIFIED:20210216T215435Z
UID:6278-1615388400-1615402800@www.placidlakescountryclub.com
SUMMARY:Couples League
DESCRIPTION:Couples League\nWednesdays at 3:00 p.m\nJoin us weekly on Wednesdays for Date Night at Placid Lakes! \nThis league requires no commitment\, you’re welcome to play when you can! \nCost\n$18 per player \n$3 for prize money per couple \nOptional closest to pin $1
URL:https://www.placidlakescountryclub.com/event/couples-league-4-2/
LOCATION:Placid Lakes
ATTACH;FMTTYPE=image/png:https://www.placidlakescountryclub.com/wp-content/uploads/2021/01/Placid-Lakes-_-Couples-9-Hole-League-2.png
END:VEVENT
BEGIN:VEVENT
DTSTART;TZID=America/Toronto:20210304T153000
DTEND;TZID=America/Toronto:20210304T193000
DTSTAMP:20260420T000133
CREATED:20210106T175402Z
LAST-MODIFIED:20210106T175707Z
UID:6238-1614871800-1614886200@www.placidlakescountryclub.com
SUMMARY:Men's Winter 9 Hole League
DESCRIPTION:January 7 thru March 25 | Thursdays at 3:30PM\n$50 Entry Fee – Goes towards prizes\n$18 for golf & cart \nOptional skins and closest to pins! \nSign up in the Golf Shop or call us at (863) 465-1626
URL:https://www.placidlakescountryclub.com/event/mens-winter-9-hole-league-2-2-2-2-2-2-2-2/
LOCATION:Placid Lakes
ATTACH;FMTTYPE=image/png:https://www.placidlakescountryclub.com/wp-content/uploads/2021/01/Mens-Winter-League-event-_-placid-lakes.png
END:VEVENT
BEGIN:VEVENT
DTSTART;TZID=America/Toronto:20210303T150000
DTEND;TZID=America/Toronto:20210303T190000
DTSTAMP:20260420T000133
CREATED:20210216T215415Z
LAST-MODIFIED:20210216T215415Z
UID:6274-1614783600-1614798000@www.placidlakescountryclub.com
SUMMARY:Couples League
DESCRIPTION:Couples League\nWednesdays at 3:00 p.m\nJoin us weekly on Wednesdays for Date Night at Placid Lakes! \nThis league requires no commitment\, you’re welcome to play when you can! \nCost\n$18 per player \n$3 for prize money per couple \nOptional closest to pin $1
URL:https://www.placidlakescountryclub.com/event/couples-league-4/
LOCATION:Placid Lakes
ATTACH;FMTTYPE=image/png:https://www.placidlakescountryclub.com/wp-content/uploads/2021/01/Placid-Lakes-_-Couples-9-Hole-League-2.png
END:VEVENT
BEGIN:VEVENT
DTSTART;TZID=America/Toronto:20210225T153000
DTEND;TZID=America/Toronto:20210225T193000
DTSTAMP:20260420T000133
CREATED:20210106T175402Z
LAST-MODIFIED:20210106T175644Z
UID:6235-1614267000-1614281400@www.placidlakescountryclub.com
SUMMARY:Men's Winter 9 Hole League
DESCRIPTION:January 7 thru March 25 | Thursdays at 3:30PM\n$50 Entry Fee – Goes towards prizes\n$18 for golf & cart \nOptional skins and closest to pins! \nSign up in the Golf Shop or call us at (863) 465-1626
URL:https://www.placidlakescountryclub.com/event/mens-winter-9-hole-league-2-2-2-2-2-2-2/
LOCATION:Placid Lakes
ATTACH;FMTTYPE=image/png:https://www.placidlakescountryclub.com/wp-content/uploads/2021/01/Mens-Winter-League-event-_-placid-lakes.png
END:VEVENT
BEGIN:VEVENT
DTSTART;TZID=America/Toronto:20210224T150000
DTEND;TZID=America/Toronto:20210224T190000
DTSTAMP:20260420T000133
CREATED:20210125T183512Z
LAST-MODIFIED:20210125T184350Z
UID:6266-1614178800-1614193200@www.placidlakescountryclub.com
SUMMARY:Couples League
DESCRIPTION:Couples League\nWednesdays at 3:00 p.m \nJoin us weekly on Wednesdays for Date Night at Placid Lakes! \nThis league requires no commitment\, you’re welcome to play when you can! \nCost\n$18 per player \n$3 for prize money per couple \nOptional closest to pin $1
URL:https://www.placidlakescountryclub.com/event/couples-league-3-2-2-2/
LOCATION:Placid Lakes
ATTACH;FMTTYPE=image/png:https://www.placidlakescountryclub.com/wp-content/uploads/2021/01/Placid-Lakes-_-Couples-9-Hole-League-2.png
END:VEVENT
BEGIN:VEVENT
DTSTART;TZID=America/Toronto:20210218T153000
DTEND;TZID=America/Toronto:20210218T193000
DTSTAMP:20260420T000133
CREATED:20210106T175402Z
LAST-MODIFIED:20210106T175614Z
UID:6232-1613662200-1613676600@www.placidlakescountryclub.com
SUMMARY:Men's Winter 9 Hole League
DESCRIPTION:January 7 thru March 25 | Thursdays at 3:30PM\n$50 Entry Fee – Goes towards prizes\n$18 for golf & cart \nOptional skins and closest to pins! \nSign up in the Golf Shop or call us at (863) 465-1626
URL:https://www.placidlakescountryclub.com/event/mens-winter-9-hole-league-2-2-2-2-2-2/
LOCATION:Placid Lakes
ATTACH;FMTTYPE=image/png:https://www.placidlakescountryclub.com/wp-content/uploads/2021/01/Mens-Winter-League-event-_-placid-lakes.png
END:VEVENT
BEGIN:VEVENT
DTSTART;TZID=America/Toronto:20210217T150000
DTEND;TZID=America/Toronto:20210217T190000
DTSTAMP:20260420T000133
CREATED:20210125T183512Z
LAST-MODIFIED:20210125T183652Z
UID:6263-1613574000-1613588400@www.placidlakescountryclub.com
SUMMARY:Couples League
DESCRIPTION:Couples League\nWednesdays at 3:00 p.m \nJoin us weekly on Wednesdays for Date Night at Placid Lakes! \nThis league requires no commitment\, you’re welcome to play when you can! \nCost\n$18 per player \n$3 for prize money per couple \nOptional closest to pin $1
URL:https://www.placidlakescountryclub.com/event/couples-league-3-2-2/
LOCATION:Placid Lakes
ATTACH;FMTTYPE=image/png:https://www.placidlakescountryclub.com/wp-content/uploads/2021/01/Placid-Lakes-_-Couples-9-Hole-League-2.png
END:VEVENT
BEGIN:VEVENT
DTSTART;TZID=America/Toronto:20210213T083000
DTEND;TZID=America/Toronto:20210213T123000
DTSTAMP:20260420T000133
CREATED:20210106T174949Z
LAST-MODIFIED:20210106T174949Z
UID:6203-1613205000-1613219400@www.placidlakescountryclub.com
SUMMARY:Valentine's Scramble
DESCRIPTION:Valentine’s Scramble\nSaturday\, February 13 | 8:30AM Shotgun Start\nSign up in the golf shop!\nPrizes ❤️ Mulligans ❤️ Closest to Pin ❤️ Longest Drive
URL:https://www.placidlakescountryclub.com/event/valentines-scramble/
LOCATION:Placid Lakes
ATTACH;FMTTYPE=image/png:https://www.placidlakescountryclub.com/wp-content/uploads/2021/01/placid-lakes-_-valentines-day-scramble.png
END:VEVENT
BEGIN:VEVENT
DTSTART;TZID=America/Toronto:20210211T153000
DTEND;TZID=America/Toronto:20210211T193000
DTSTAMP:20260420T000133
CREATED:20210106T175402Z
LAST-MODIFIED:20210106T175558Z
UID:6229-1613057400-1613071800@www.placidlakescountryclub.com
SUMMARY:Men's Winter 9 Hole League
DESCRIPTION:January 7 thru March 25 | Thursdays at 3:30PM\n$50 Entry Fee – Goes towards prizes\n$18 for golf & cart \nOptional skins and closest to pins! \nSign up in the Golf Shop or call us at (863) 465-1626
URL:https://www.placidlakescountryclub.com/event/mens-winter-9-hole-league-2-2-2-2-2/
LOCATION:Placid Lakes
ATTACH;FMTTYPE=image/png:https://www.placidlakescountryclub.com/wp-content/uploads/2021/01/Mens-Winter-League-event-_-placid-lakes.png
END:VEVENT
BEGIN:VEVENT
DTSTART;TZID=America/Toronto:20210210T150000
DTEND;TZID=America/Toronto:20210210T190000
DTSTAMP:20260420T000133
CREATED:20210125T183512Z
LAST-MODIFIED:20210125T183542Z
UID:6260-1612969200-1612983600@www.placidlakescountryclub.com
SUMMARY:Couples League
DESCRIPTION:Couples League\nWednesdays at 3:00 p.m \nJoin us weekly on Wednesdays for Date Night at Placid Lakes! \nThis league requires no commitment\, you’re welcome to play when you can! \nCost\n$18 per player \n$3 for prize money per couple \nOptional closest to pin $1
URL:https://www.placidlakescountryclub.com/event/couples-league-3-2/
LOCATION:Placid Lakes
ATTACH;FMTTYPE=image/png:https://www.placidlakescountryclub.com/wp-content/uploads/2021/01/Placid-Lakes-_-Couples-9-Hole-League-2.png
END:VEVENT
BEGIN:VEVENT
DTSTART;TZID=America/Toronto:20210204T153000
DTEND;TZID=America/Toronto:20210204T193000
DTSTAMP:20260420T000133
CREATED:20210106T175402Z
LAST-MODIFIED:20210106T175540Z
UID:6226-1612452600-1612467000@www.placidlakescountryclub.com
SUMMARY:Men's Winter 9 Hole League
DESCRIPTION:January 7 thru March 25 | Thursdays at 3:30PM\n$50 Entry Fee – Goes towards prizes\n$18 for golf & cart \nOptional skins and closest to pins! \nSign up in the Golf Shop or call us at (863) 465-1626
URL:https://www.placidlakescountryclub.com/event/mens-winter-9-hole-league-2-2-2-2/
LOCATION:Placid Lakes
ATTACH;FMTTYPE=image/png:https://www.placidlakescountryclub.com/wp-content/uploads/2021/01/Mens-Winter-League-event-_-placid-lakes.png
END:VEVENT
BEGIN:VEVENT
DTSTART;TZID=America/Toronto:20210203T150000
DTEND;TZID=America/Toronto:20210203T190000
DTSTAMP:20260420T000133
CREATED:20210125T183512Z
LAST-MODIFIED:20210125T183512Z
UID:6257-1612364400-1612378800@www.placidlakescountryclub.com
SUMMARY:Couples League
DESCRIPTION:Couples League\nWednesdays at 3:00 p.m \nJoin us weekly on Wednesdays for Date Night at Placid Lakes! \nThis league requires no commitment\, you’re welcome to play when you can! \nCost\n$18 per player \n$3 for prize money per couple \nOptional closest to pin $1
URL:https://www.placidlakescountryclub.com/event/couples-league-3/
LOCATION:Placid Lakes
ATTACH;FMTTYPE=image/png:https://www.placidlakescountryclub.com/wp-content/uploads/2021/01/Placid-Lakes-_-Couples-9-Hole-League-2.png
END:VEVENT
BEGIN:VEVENT
DTSTART;TZID=America/Toronto:20210128T153000
DTEND;TZID=America/Toronto:20210128T193000
DTSTAMP:20260420T000133
CREATED:20210106T175402Z
LAST-MODIFIED:20210106T175456Z
UID:6223-1611847800-1611862200@www.placidlakescountryclub.com
SUMMARY:Men's Winter 9 Hole League
DESCRIPTION:January 7 thru March 25 | Thursdays at 3:30PM\n$50 Entry Fee – Goes towards prizes\n$18 for golf & cart \nOptional skins and closest to pins! \nSign up in the Golf Shop or call us at (863) 465-1626
URL:https://www.placidlakescountryclub.com/event/mens-winter-9-hole-league-2-2-2/
LOCATION:Placid Lakes
ATTACH;FMTTYPE=image/png:https://www.placidlakescountryclub.com/wp-content/uploads/2021/01/Mens-Winter-League-event-_-placid-lakes.png
END:VEVENT
BEGIN:VEVENT
DTSTART;TZID=America/Toronto:20210127T150000
DTEND;TZID=America/Toronto:20210127T190000
DTSTAMP:20260420T000133
CREATED:20201228T162018Z
LAST-MODIFIED:20201228T162155Z
UID:6195-1611759600-1611774000@www.placidlakescountryclub.com
SUMMARY:Couples League
DESCRIPTION:Couples League\nWednesdays at 3:00 p.m \nJoin us weekly on Wednesdays for Date Night at Placid Lakes! \nThis league requires no commitment\, you’re welcome to play when you can! \n\nCost\n$18 per player \n$3 for prize money per couple \nOptional closest to pin $1
URL:https://www.placidlakescountryclub.com/event/couples-league-2-2-2/
LOCATION:Placid Lakes
ATTACH;FMTTYPE=image/png:https://www.placidlakescountryclub.com/wp-content/uploads/2020/12/Placid-Lakes-_-Couples-9-Hole-League.png
END:VEVENT
BEGIN:VEVENT
DTSTART;TZID=America/Toronto:20210121T153000
DTEND;TZID=America/Toronto:20210121T193000
DTSTAMP:20260420T000133
CREATED:20210106T175402Z
LAST-MODIFIED:20210106T175440Z
UID:6220-1611243000-1611257400@www.placidlakescountryclub.com
SUMMARY:Men's Winter 9 Hole League
DESCRIPTION:January 7 thru March 25 | Thursdays at 3:30PM\n$50 Entry Fee – Goes towards prizes\n$18 for golf & cart \nOptional skins and closest to pins! \nSign up in the Golf Shop or call us at (863) 465-1626
URL:https://www.placidlakescountryclub.com/event/mens-winter-9-hole-league-2-2/
LOCATION:Placid Lakes
ATTACH;FMTTYPE=image/png:https://www.placidlakescountryclub.com/wp-content/uploads/2021/01/Mens-Winter-League-event-_-placid-lakes.png
END:VEVENT
BEGIN:VEVENT
DTSTART;TZID=America/Toronto:20210120T150000
DTEND;TZID=America/Toronto:20210120T190000
DTSTAMP:20260420T000133
CREATED:20201228T162018Z
LAST-MODIFIED:20201228T162126Z
UID:6192-1611154800-1611169200@www.placidlakescountryclub.com
SUMMARY:Couples League
DESCRIPTION:Couples League\nWednesdays at 3:00 p.m \nJoin us weekly on Wednesdays for Date Night at Placid Lakes! \nThis league requires no commitment\, you’re welcome to play when you can! \n\nCost\n$18 per player \n$3 for prize money per couple \nOptional closest to pin $1
URL:https://www.placidlakescountryclub.com/event/couples-league-2-2/
LOCATION:Placid Lakes
ATTACH;FMTTYPE=image/png:https://www.placidlakescountryclub.com/wp-content/uploads/2020/12/Placid-Lakes-_-Couples-9-Hole-League.png
END:VEVENT
END:VCALENDAR